BEGIN:VCALENDAR
VERSION:2.0
PRODID:-//hacksw/handcal//NONSGML v1.0//EN
BEGIN:VEVENT
SUMMARY:Sortie Club circuit H a 8h00
UID:f0376201-e05e-4209-adb5-07d1ec10a11d
DTSTART:20260426T060000Z
DTEND:20260426T220000Z
LOCATION:Localisation   
CATEGORIES:Sportif
STATUS:
DESCRIPTION:<p><strong>Sortie club circuit H</strong></p>
 
 <p>Groupe
 1 H1 112 km</p>
 
 <p>Groupe 2 H2 96 km</p>
 
 <p>Groupe 3 H4 62 km</p>
URL;VALUE=URI:https://www.cyclosohouilles.com/evenements/2026/04/26/sortie-club-circuit-h-a-8h00-2433550
END:VEVENT
END:VCALENDAR
